BEGIN:VCALENDAR
VERSION:2.0
PRODID:-//Burning Heart - ECPv6.15.20//NONSGML v1.0//EN
CALSCALE:GREGORIAN
METHOD:PUBLISH
X-WR-CALNAME:Burning Heart
X-ORIGINAL-URL:https://burning-heart.de
X-WR-CALDESC:Veranstaltungen für Burning Heart
REFRESH-INTERVAL;VALUE=DURATION:PT1H
X-Robots-Tag:noindex
X-PUBLISHED-TTL:PT1H
BEGIN:VTIMEZONE
TZID:Europe/Berlin
BEGIN:DAYLIGHT
TZOFFSETFROM:+0100
TZOFFSETTO:+0200
TZNAME:CEST
DTSTART:20250330T010000
END:DAYLIGHT
BEGIN:STANDARD
TZOFFSETFROM:+0200
TZOFFSETTO:+0100
TZNAME:CET
DTSTART:20251026T010000
END:STANDARD
BEGIN:DAYLIGHT
TZOFFSETFROM:+0100
TZOFFSETTO:+0200
TZNAME:CEST
DTSTART:20260329T010000
END:DAYLIGHT
BEGIN:STANDARD
TZOFFSETFROM:+0200
TZOFFSETTO:+0100
TZNAME:CET
DTSTART:20261025T010000
END:STANDARD
BEGIN:DAYLIGHT
TZOFFSETFROM:+0100
TZOFFSETTO:+0200
TZNAME:CEST
DTSTART:20270328T010000
END:DAYLIGHT
BEGIN:STANDARD
TZOFFSETFROM:+0200
TZOFFSETTO:+0100
TZNAME:CET
DTSTART:20271031T010000
END:STANDARD
END:VTIMEZONE
BEGIN:VEVENT
DTSTART;TZID=Europe/Berlin:20260430T203000
DTEND;TZID=Europe/Berlin:20260430T203000
DTSTAMP:20260420T133108
CREATED:20260419T185605Z
LAST-MODIFIED:20260419T185605Z
UID:2599-1777581000-1777581000@burning-heart.de
SUMMARY:Tanz in den Mai
DESCRIPTION:PARTY in den Mai! ❤️‍🔥\nWir freuen uns mit euch auf einen musikgeladenen Abend am 30.04.26\nBereits zum dritten Mal\, werden wir auch diesmal wieder die Schützenheide zum Beben bringen! GARANTIERT!\nDa ihr von den letzten Jahren wisst\, das die Tickets heiß begehrt sind\, solltet ihr nicht lange abwarten und die VVK Stellen schnellstens entern… \n 
URL:https://burning-heart.de/veranstaltung/tanz-in-den-mai-3/
LOCATION:Schützenheide Kamen\, An d. Schützenheide 17\, Bergkamen\, 59192\, Deutschland
CATEGORIES:Öffentlich
ATTACH;FMTTYPE=image/jpeg:https://burning-heart.de/wp-content/uploads/2026/04/BH-Tanz-in-den-Mai-2026.jpg
END:VEVENT
BEGIN:VEVENT
DTSTART;VALUE=DATE:20260509
DTEND;VALUE=DATE:20260510
DTSTAMP:20260420T133108
CREATED:20260419T185910Z
LAST-MODIFIED:20260419T185910Z
UID:2602-1778284800-1778371199@burning-heart.de
SUMMARY:Private Gesellschaft
DESCRIPTION:
URL:https://burning-heart.de/veranstaltung/private-gesellschaft/
CATEGORIES:Privat
ATTACH;FMTTYPE=image/jpeg:https://burning-heart.de/wp-content/uploads/2022/12/1-min.jpg
END:VEVENT
BEGIN:VEVENT
DTSTART;TZID=Europe/Berlin:20260606T203000
DTEND;TZID=Europe/Berlin:20260606T203000
DTSTAMP:20260420T133108
CREATED:20260419T190145Z
LAST-MODIFIED:20260419T190330Z
UID:2604-1780777800-1780777800@burning-heart.de
SUMMARY:Hafenfest Bergkamen
DESCRIPTION:
URL:https://burning-heart.de/veranstaltung/hafenfest-bergkamen/
LOCATION:Marina Rünthe\, Hafenweg 30\, Bergkamen\, 59192
CATEGORIES:Öffentlich
ATTACH;FMTTYPE=image/jpeg:https://burning-heart.de/wp-content/uploads/2022/12/20190601_5DM41312-Benutzerdefiniert-min.jpg
END:VEVENT
BEGIN:VEVENT
DTSTART;VALUE=DATE:20260617
DTEND;VALUE=DATE:20260618
DTSTAMP:20260420T133108
CREATED:20260419T190704Z
LAST-MODIFIED:20260419T190704Z
UID:2607-1781654400-1781740799@burning-heart.de
SUMMARY:Privat: IPAA Messe
DESCRIPTION:
URL:https://burning-heart.de/veranstaltung/privat-ipaa-messe/
CATEGORIES:Privat
ATTACH;FMTTYPE=image/jpeg:https://burning-heart.de/wp-content/uploads/2022/12/IMG_2260.jpg
END:VEVENT
BEGIN:VEVENT
DTSTART;TZID=Europe/Berlin:20260620T210000
DTEND;TZID=Europe/Berlin:20260620T210000
DTSTAMP:20260420T133108
CREATED:20260419T190830Z
LAST-MODIFIED:20260419T190830Z
UID:2609-1781989200-1781989200@burning-heart.de
SUMMARY:Rock am Teich (Festival)
DESCRIPTION:
URL:https://burning-heart.de/veranstaltung/rock-am-teich-festival/
CATEGORIES:Öffentlich
ATTACH;FMTTYPE=image/jpeg:https://burning-heart.de/wp-content/uploads/2024/02/20231118_FrankHeldt_5DM40768.jpg
END:VEVENT
BEGIN:VEVENT
DTSTART;TZID=Europe/Berlin:20260905T213000
DTEND;TZID=Europe/Berlin:20260905T213000
DTSTAMP:20260420T133108
CREATED:20260419T191204Z
LAST-MODIFIED:20260419T191204Z
UID:2611-1788643800-1788643800@burning-heart.de
SUMMARY:Stadtfest Unna
DESCRIPTION:
URL:https://burning-heart.de/veranstaltung/stadtfest-unna/
LOCATION:Rathausplatz Unna\, Rathausplatz 1\, Unna\, 59423\, Germany
CATEGORIES:Öffentlich
ATTACH;FMTTYPE=image/jpeg:https://burning-heart.de/wp-content/uploads/2022/12/events_2-min.jpg
END:VEVENT
BEGIN:VEVENT
DTSTART;TZID=Europe/Berlin:20261205T180000
DTEND;TZID=Europe/Berlin:20261205T180000
DTSTAMP:20260420T133108
CREATED:20260419T191338Z
LAST-MODIFIED:20260419T191417Z
UID:2615-1796493600-1796493600@burning-heart.de
SUMMARY:Akustisch TuRa Bergkamen
DESCRIPTION:
URL:https://burning-heart.de/veranstaltung/akustisch-tura-bergkamen/
CATEGORIES:Öffentlich
ATTACH;FMTTYPE=image/jpeg:https://burning-heart.de/wp-content/uploads/2022/12/20191109_5DM40917-Benutzerdefiniert-min.jpg
END:VEVENT
END:VCALENDAR